BEGIN:VCALENDAR
VERSION:2.0
PRODID:-//ZephyrHall【ゼファーホール】 - ECPv6.15.20//NONSGML v1.0//EN
CALSCALE:GREGORIAN
METHOD:PUBLISH
X-WR-CALNAME:ZephyrHall【ゼファーホール】
X-ORIGINAL-URL:https://zephyrhall.xyz
X-WR-CALDESC:ZephyrHall【ゼファーホール】 のイベント
REFRESH-INTERVAL;VALUE=DURATION:PT1H
X-Robots-Tag:noindex
X-PUBLISHED-TTL:PT1H
BEGIN:VTIMEZONE
TZID:Asia/Tokyo
BEGIN:STANDARD
TZOFFSETFROM:+0900
TZOFFSETTO:+0900
TZNAME:JST
DTSTART:20250101T000000
END:STANDARD
END:VTIMEZONE
BEGIN:VEVENT
DTSTART;TZID=Asia/Tokyo:20260328T113000
DTEND;TZID=Asia/Tokyo:20260328T203000
DTSTAMP:20260425T045800
CREATED:20260327T060519Z
LAST-MODIFIED:20260330T101108Z
UID:2901-1774697400-1774729800@zephyrhall.xyz
SUMMARY:KANG MINSU LIVE TOUR 2026 -RISE TO DIAMOND-
DESCRIPTION:KANG MINSU LIVE TOUR 2026-RISE TO DIAMOND-\n日時 2026.3.28(土)\n会場 Zephyer Hall\n1部 OPEN/START 12:00/12:30\n2部 OPEN/START 17:30/18:00 \nhttps://minsu.zaiko.io/e/risetodiamd \n1部\nミリオン先行¥6\,000\n一般¥6\,000\n2部\nミリオン先行¥8\,000\n一般¥8\,000 \n出演者\nKANGMINSU
URL:https://zephyrhall.xyz/event/kang-minsu-live-tour-2026-rise-to-diamond/
LOCATION:Zephyr Hall\, 愛知県名古屋市中区錦3丁目14-21\, 日本
ATTACH;FMTTYPE=image/jpeg:https://zephyrhall.xyz/wp-content/uploads/2026/03/328-z.jpg
END:VEVENT
END:VCALENDAR