BEGIN:VCALENDAR
VERSION:2.0
PRODID:-//ZephyrHall【ゼファーホール】 - ECPv6.15.20//NONSGML v1.0//EN
CALSCALE:GREGORIAN
METHOD:PUBLISH
X-WR-CALNAME:ZephyrHall【ゼファーホール】
X-ORIGINAL-URL:https://zephyrhall.xyz
X-WR-CALDESC:ZephyrHall【ゼファーホール】 のイベント
REFRESH-INTERVAL;VALUE=DURATION:PT1H
X-Robots-Tag:noindex
X-PUBLISHED-TTL:PT1H
BEGIN:VTIMEZONE
TZID:Asia/Tokyo
BEGIN:STANDARD
TZOFFSETFROM:+0900
TZOFFSETTO:+0900
TZNAME:JST
DTSTART:20250101T000000
END:STANDARD
END:VTIMEZONE
BEGIN:VEVENT
DTSTART;TZID=Asia/Tokyo:20260331T170000
DTEND;TZID=Asia/Tokyo:20260331T220000
DTSTAMP:20260425T031636
CREATED:20260327T075410Z
LAST-MODIFIED:20260330T103220Z
UID:2918-1774976400-1774994400@zephyrhall.xyz
SUMMARY:IGNITION
DESCRIPTION:IGNITION\n日時 2026.3.31(火)\n会場 Zephyer Hall\nOPEN/START 17:00/17:20 \nhttps://ticketdive.com/event/IGNITION0331 \n優先¥3\,500\n一般¥1\,000 \n出演者\nSnowComp/ex\nimage\n天色のメロディー\nOS☆U\nAMO million\n君へセレナーデ\nアクリム\nアリビオ\nあすとりーのうさぎ\nHYPER FARM\n世界で1番シンデレラ\nなないろ∞ミルキーウェイ
URL:https://zephyrhall.xyz/event/ignition-4/
LOCATION:Zephyr Hall\, 愛知県名古屋市中区錦3丁目14-21\, 日本
ATTACH;FMTTYPE=image/jpeg:https://zephyrhall.xyz/wp-content/uploads/2026/03/331-z.jpg
END:VEVENT
END:VCALENDAR