BEGIN:VCALENDAR
VERSION:2.0
PRODID:-//ZephyrHall【ゼファーホール】 - ECPv6.15.20//NONSGML v1.0//EN
CALSCALE:GREGORIAN
METHOD:PUBLISH
X-WR-CALNAME:ZephyrHall【ゼファーホール】
X-ORIGINAL-URL:https://zephyrhall.xyz
X-WR-CALDESC:ZephyrHall【ゼファーホール】 のイベント
REFRESH-INTERVAL;VALUE=DURATION:PT1H
X-Robots-Tag:noindex
X-PUBLISHED-TTL:PT1H
BEGIN:VTIMEZONE
TZID:Asia/Tokyo
BEGIN:STANDARD
TZOFFSETFROM:+0900
TZOFFSETTO:+0900
TZNAME:JST
DTSTART:20250101T000000
END:STANDARD
END:VTIMEZONE
BEGIN:VEVENT
DTSTART;TZID=Asia/Tokyo:20260401T173000
DTEND;TZID=Asia/Tokyo:20260401T223000
DTSTAMP:20260425T032525
CREATED:20260330T094825Z
LAST-MODIFIED:20260330T095205Z
UID:2923-1775064600-1775082600@zephyrhall.xyz
SUMMARY:MAD'S iNK presents『？』
DESCRIPTION:MAD’S iNK presents『？』\n日時 2026.4.1(水)\n会場 Zephyer Hall\nOPEN/START 17:30/18:00 \nhttps://ticketdive.com/event/MADS_April \n優先¥5\,000\n一般¥2\,000\n女性¥1\,000 \n出演者\nマザリ\nめっ！\n神様の言う通り\n絶望キネマ
URL:https://zephyrhall.xyz/event/mads-ink-presents%e3%80%8e%ef%bc%9f%e3%80%8f/
LOCATION:Zephyr Hall\, 愛知県名古屋市中区錦3丁目14-21\, 日本
ATTACH;FMTTYPE=image/jpeg:https://zephyrhall.xyz/wp-content/uploads/2026/03/41-z.jpg
END:VEVENT
END:VCALENDAR