BEGIN:VCALENDAR
VERSION:2.0
PRODID:-//ZephyrHall【ゼファーホール】 - ECPv6.15.20//NONSGML v1.0//EN
CALSCALE:GREGORIAN
METHOD:PUBLISH
X-ORIGINAL-URL:https://zephyrhall.xyz
X-WR-CALDESC:ZephyrHall【ゼファーホール】 のイベント
REFRESH-INTERVAL;VALUE=DURATION:PT1H
X-Robots-Tag:noindex
X-PUBLISHED-TTL:PT1H
BEGIN:VTIMEZONE
TZID:Asia/Tokyo
BEGIN:STANDARD
TZOFFSETFROM:+0900
TZOFFSETTO:+0900
TZNAME:JST
DTSTART:20250101T000000
END:STANDARD
END:VTIMEZONE
BEGIN:VEVENT
DTSTART;TZID=Asia/Tokyo:20260403T060000
DTEND;TZID=Asia/Tokyo:20260403T210000
DTSTAMP:20260425T032022
CREATED:20260330T111134Z
LAST-MODIFIED:20260330T111653Z
UID:3008-1775196000-1775250000@zephyrhall.xyz
SUMMARY:Rune Octagram Debut Live
DESCRIPTION:Rune Octagram Debut Live\n日時 2026.4.3(金)\n会場 Zephyer Hall\nOPEN/START 18:10/18:30 \nhttps://tiget.net/events/476952 \nチケット¥1\,500\n当日¥2\,000 \n出演者\nふるふるしっぽ？\nimage\nRune Octagram
URL:https://zephyrhall.xyz/event/rune-octagram-debut-live/
LOCATION:Zephyr Hall\, 愛知県名古屋市中区錦3丁目14-21\, 日本
ATTACH;FMTTYPE=image/jpeg:https://zephyrhall.xyz/wp-content/uploads/2026/03/43-z.jpg
END:VEVENT
END:VCALENDAR