BEGIN:VCALENDAR
VERSION:2.0
PRODID:-//ZephyrHall【ゼファーホール】 - ECPv6.15.20//NONSGML v1.0//EN
CALSCALE:GREGORIAN
METHOD:PUBLISH
X-WR-CALNAME:ZephyrHall【ゼファーホール】
X-ORIGINAL-URL:https://zephyrhall.xyz
X-WR-CALDESC:ZephyrHall【ゼファーホール】 のイベント
REFRESH-INTERVAL;VALUE=DURATION:PT1H
X-Robots-Tag:noindex
X-PUBLISHED-TTL:PT1H
BEGIN:VTIMEZONE
TZID:Asia/Tokyo
BEGIN:STANDARD
TZOFFSETFROM:+0900
TZOFFSETTO:+0900
TZNAME:JST
DTSTART:20250101T000000
END:STANDARD
END:VTIMEZONE
BEGIN:VEVENT
DTSTART;TZID=Asia/Tokyo:20260406T160000
DTEND;TZID=Asia/Tokyo:20260406T213000
DTSTAMP:20260425T032530
CREATED:20260331T095304Z
LAST-MODIFIED:20260331T095714Z
UID:3026-1775491200-1775511000@zephyrhall.xyz
SUMMARY:Girl's大作戦
DESCRIPTION:Girl’s大作戦\n日時 2026.4.6(月)\n会場 Zephyer Hall\nOPEN/START 16:00/16:20 \nhttps://ticketdive.com/event/GirlsDaisakusen0406 \n優先¥4\,600(ドリンク代¥600込み)\n一般¥1\,600(ドリンク代¥600込み) \n出演者\nシャニムニ=パレード\nタイトル未定\nTHE ENCORE\n君に、胸キュン\nぜろから☆すた→と\nSTARRY×NIGHT↗︎\nSiLENT←NOiSE\nあたまのなかは8ビット⁉︎\nOS☆U\nAQA
URL:https://zephyrhall.xyz/event/girls%e5%a4%a7%e4%bd%9c%e6%88%a6-2/
LOCATION:Zephyr Hall\, 愛知県名古屋市中区錦3丁目14-21\, 日本
ATTACH;FMTTYPE=image/jpeg:https://zephyrhall.xyz/wp-content/uploads/2026/03/46-z-scaled.jpg
END:VEVENT
END:VCALENDAR